BEGIN:VCALENDAR
VERSION:2.0
PRODID:-//Catalyst Fine Art - ECPv6.15.18//NONSGML v1.0//EN
CALSCALE:GREGORIAN
METHOD:PUBLISH
X-ORIGINAL-URL:https://catalystfineart.com
X-WR-CALDESC:Events for Catalyst Fine Art
REFRESH-INTERVAL;VALUE=DURATION:PT1H
X-Robots-Tag:noindex
X-PUBLISHED-TTL:PT1H
BEGIN:VTIMEZONE
TZID:UTC
BEGIN:STANDARD
TZOFFSETFROM:+0000
TZOFFSETTO:+0000
TZNAME:UTC
DTSTART:20240101T000000
END:STANDARD
END:VTIMEZONE
BEGIN:VEVENT
DTSTART;TZID=UTC:20250410T150000
DTEND;TZID=UTC:20250411T120000
DTSTAMP:20260422T040619
CREATED:20250314T205931Z
LAST-MODIFIED:20250404T054119Z
UID:6115-1744297200-1744372800@catalystfineart.com
SUMMARY:Immersive Experience with Sabah al Dhaher
DESCRIPTION:Elevate Your Senses with the Catalyst Fine Art Gallery Immersive Experience featuring Sabah Al Dhaher\, on April 10th! \nYour journey begins with an intimate visit to our featured artist’s studio. Engage with the artist\, explore their creative process\, and preview their current and upcoming works\, all while enjoying fine wine and thoughtfully curated light appetizers. \nAfter the tour\, we will return to The Lodge where you will dine at the artist’s table and savor each course\, designed by Chef Luke Kolpin\, perfectly paired with exquisite regional wines\, as the evening culminates a harmonious celebration of flavor\, artistry\, and inspiration. \nThis one-of-a-kind experience is shared with the region’s finest artistic talents and culinary visionaries\, leaving you with unforgettable memories in an intimate and luxurious setting. \nPackage Includes:\n\nOvernight stay for Two People\nComplimentary\, guaranteed early check-in at 3 PM\nWelcome in-room treat from our chef team\nConcierge shuttle service to and from the artist’s studio\nFive-course Chef’s Tasting Menu dinner with regional wine pairings for Two seated at the Artist’s table\nÀ la carte breakfast for two the following morning\nComplimentary\, guaranteed late checkout at 12 PM (Noon)\n\nImmerse yourself in this one-of-a-kind experience at The Lodge. Reserve your spot today by selecting the corresponding event booking link!
URL:https://catalystfineart.com/event/6115/
LOCATION:The Lodge at St. Edward Park\, 14477 Juanita Drive NE\, Kenmore\, WA\, 98028\, United States
CATEGORIES:Artist studio tour immersive package
ATTACH;FMTTYPE=image/jpeg:https://catalystfineart.com/wp-content/uploads/2025/03/Sabah-working-on-Lady-of-the-Lake-scaled.webp
ORGANIZER;CN="Catalyst Fine Art":MAILTO:Catalystfineart@gmail.com
END:VEVENT
BEGIN:VEVENT
DTSTART;VALUE=DATE:20250213
DTEND;VALUE=DATE:20250215
DTSTAMP:20260422T040619
CREATED:20241221T093712Z
LAST-MODIFIED:20250111T002736Z
UID:5597-1739404800-1739577599@catalystfineart.com
SUMMARY:Immersive Experience Package - featuring Stephen Dale Edwards artist studio tour and fine dining with Executive Chef Luke Kolpin
DESCRIPTION:The Catalyst Fine Art Immersive Experience package offers exclusive access to the gallery’s top talent paired with Cedar + Elm’s culinary masters\, seamlessly blending artistic passion and fine dining excellence. \nDuring your stay\, you’ll have the unique opportunity to visit the studio of Artist-in-Residence Stephen Dale Edwards for an intimate preview of his current and upcoming works. Enjoy wine and light appetizers after the tour while engaging with the artist. \nThe evening concludes at Cedar + Elm with a remarkable five-course dining experience hosted by the artist and led by Chef Luke and his team. Each course is expertly paired with regional wines\, creating a perfect harmony of flavors and artistry. \nPackage Includes:\n\nOvernight stay for Two People\nComplimentary\, guaranteed early check-in at 3 PM\nWelcome in-room treat from our chef team\nConcierge shuttle service to and from the artist’s studio\nFive-course Chef’s Tasting Menu dinner with regional wine pairings for Two\nA la carte breakfast for two the following morning\nComplimentary\, guaranteed late checkout at Noon (12 PM)\n\nBook Now
URL:https://catalystfineart.com/event/immersive-experience-package-featuring-stephen-dale-edwards-artist-studio-tour-and-fine-dining-with-executive-chef-luke-kolpin/
LOCATION:The Lodge at St. Edward Park\, 14477 Juanita Drive NE\, Kenmore\, WA\, 98028\, United States
CATEGORIES:Artist studio tour immersive package
ATTACH;FMTTYPE=image/jpeg:https://catalystfineart.com/wp-content/uploads/2024/12/Promo-image-square-scaled.webp
END:VEVENT
END:VCALENDAR