BEGIN:VCALENDAR
VERSION:2.0
PRODID:-//Catalyst Fine Art - ECPv6.15.18//NONSGML v1.0//EN
CALSCALE:GREGORIAN
METHOD:PUBLISH
X-ORIGINAL-URL:https://catalystfineart.com
X-WR-CALDESC:Events for Catalyst Fine Art
REFRESH-INTERVAL;VALUE=DURATION:PT1H
X-Robots-Tag:noindex
X-PUBLISHED-TTL:PT1H
BEGIN:VTIMEZONE
TZID:UTC
BEGIN:STANDARD
TZOFFSETFROM:+0000
TZOFFSETTO:+0000
TZNAME:UTC
DTSTART:20230101T000000
END:STANDARD
END:VTIMEZONE
BEGIN:VEVENT
DTSTART;VALUE=DATE:20241125
DTEND;VALUE=DATE:20250108
DTSTAMP:20260425T230957
CREATED:20241101T201843Z
LAST-MODIFIED:20250110T181415Z
UID:5398-1732492800-1736294399@catalystfineart.com
SUMMARY:Gallery of Giving Trees
DESCRIPTION:Each year\, the main gallery is filled with beautifully decorated holiday trees\, each showcasing the meaningful work of local nonprofits. Ornaments provide information on how to connect with these organizations and offer a QR code to make a donation. \nThis year’s nonprofit partners include: \n\nArt for All\nHilltop Artists\nNorthshore Schools Foundation\nJourneymen Institute\nTreehouse For Kids\nPartners in Print\nVision House\nPaws with Cause\nHugo House – located in the library on the 3rd floor\n\nThe Lodge at St. Edward State Park and Catalyst Fine Art are proud to support and celebrate these incredible organizations and their impact. \nCome explore the gallery offering extraordinary artwork from over 30 PNW artists\, support local artists and celebrate the holidays with us!
URL:https://catalystfineart.com/event/gallery-of-giving-trees/
LOCATION:Catalyst Fine Art Gallery inside The Lodge at St. Edward Park\, 14477 Juanita Drive NE\, Kenmore\, WA\, 98028\, United States
CATEGORIES:Exhibition
ATTACH;FMTTYPE=image/jpeg:https://catalystfineart.com/wp-content/uploads/2024/11/Gallery-of-Trees-image-jpg.webp
ORGANIZER;CN="Catalyst Fine Art":MAILTO:Catalystfineart@gmail.com
END:VEVENT
END:VCALENDAR