BEGIN:VCALENDAR
VERSION:2.0
PRODID:-//Catalyst Fine Art - ECPv6.15.18//NONSGML v1.0//EN
CALSCALE:GREGORIAN
METHOD:PUBLISH
X-ORIGINAL-URL:https://catalystfineart.com
X-WR-CALDESC:Events for Catalyst Fine Art
REFRESH-INTERVAL;VALUE=DURATION:PT1H
X-Robots-Tag:noindex
X-PUBLISHED-TTL:PT1H
BEGIN:VTIMEZONE
TZID:UTC
BEGIN:STANDARD
TZOFFSETFROM:+0000
TZOFFSETTO:+0000
TZNAME:UTC
DTSTART:20240101T000000
END:STANDARD
END:VTIMEZONE
BEGIN:VEVENT
DTSTART;TZID=UTC:20251129T100000
DTEND;TZID=UTC:20251129T190000
DTSTAMP:20260423T001408
CREATED:20251007T222344Z
LAST-MODIFIED:20251106T185506Z
UID:6935-1764410400-1764442800@catalystfineart.com
SUMMARY:Holiday Arts Market @ The Lodge at St. Edward Park - Saturday & Sunday
DESCRIPTION:Mark your calendar! \nJoin us for the annual Holiday Arts Market at The Lodge at St. Edward State Park. \nThis indoor market is located inside the beautifully restored former seminary\, now boutique hotel\, The Lodge at St. Edward State Park. It is surrounded by 326 acres of trails and forest with access to Lake Washington. The Lodge offers a restaurant\, Cedar + Elm and 2 unique bars open to the public with an afternoon tea event on Saturdays and a Sunday brunch experience. \nThe annual Holiday Arts Market hosts over 30 local vendors and is located throughout Catalyst Fine Art Gallery\, representing 40 PNW artists with hundreds of artworks available for purchase. Free admission. \nOn Saturday\, 11/29\, stay and celebrate The Lodge annual Tree Lighting event on the north lawn and plaza. Step outside the indoor market to enjoy carols by the Lake Washington Singers. Santa and Mrs. Claus will be strolling the event and taking photos with guests. \nSunday 11/30\, stop in to watch a live demonstration of glass working by local glass artist Robert Bank. \nCome celebrate PNW artistry and support local creatives while shopping unique\, locally made gifts for your holiday giving.
URL:https://catalystfineart.com/event/holiday-arts-market/
LOCATION:The Lodge at St. Edward Park\, 14477 Juanita Drive NE\, Kenmore\, WA\, 98028\, United States
CATEGORIES:Art Market,Exhibition,Local artisan pop-up,Music
ATTACH;FMTTYPE=image/png:https://catalystfineart.com/wp-content/uploads/2025/10/Holiday-Market-Flyer-2025-png.webp
ORGANIZER;CN="Catalyst Fine Art":MAILTO:Catalystfineart@gmail.com
END:VEVENT
END:VCALENDAR