BEGIN:VCALENDAR
VERSION:2.0
PRODID:-//Catalyst Fine Art - ECPv6.15.18//NONSGML v1.0//EN
CALSCALE:GREGORIAN
METHOD:PUBLISH
X-WR-CALNAME:Catalyst Fine Art
X-ORIGINAL-URL:https://catalystfineart.com
X-WR-CALDESC:Events for Catalyst Fine Art
REFRESH-INTERVAL;VALUE=DURATION:PT1H
X-Robots-Tag:noindex
X-PUBLISHED-TTL:PT1H
BEGIN:VTIMEZONE
TZID:UTC
BEGIN:STANDARD
TZOFFSETFROM:+0000
TZOFFSETTO:+0000
TZNAME:UTC
DTSTART:20250101T000000
END:STANDARD
END:VTIMEZONE
BEGIN:VEVENT
DTSTART;TZID=UTC:20260329T160000
DTEND;TZID=UTC:20260329T180000
DTSTAMP:20260422T003537
CREATED:20260317T033419Z
LAST-MODIFIED:20260327T041316Z
UID:7547-1774800000-1774807200@catalystfineart.com
SUMMARY:Art Walk - Celebrating PNW Women in Art
DESCRIPTION:Come join us on Sunday\, March 29th\, from 4-6 pm for a self-guided Art Walk on the 2 floors of gallery spaces. This month we are highlighting Women in Art. Several of our featured artists will be in the gallery\, visiting with guests\, and sharing their artwork and inspirations. \nCheck out artwork by Catalyst women artists here.
URL:https://catalystfineart.com/event/march-art-walk-celebrating-women-in-arts/
LOCATION:Catalyst Fine Art Gallery inside The Lodge at St. Edward Park\, 14477 Juanita Drive NE\, Kenmore\, WA\, 98028\, United States
CATEGORIES:Catalyst Art Walk,Exhibition
ATTACH;FMTTYPE=image/jpeg:https://catalystfineart.com/wp-content/uploads/2026/03/Art-Walk-flyer.webp
ORGANIZER;CN="Catalyst Fine Art":MAILTO:Catalystfineart@gmail.com
END:VEVENT
END:VCALENDAR