BEGIN:VCALENDAR
VERSION:2.0
PRODID:-//Catalyst Fine Art - ECPv6.15.18//NONSGML v1.0//EN
CALSCALE:GREGORIAN
METHOD:PUBLISH
X-ORIGINAL-URL:https://catalystfineart.com
X-WR-CALDESC:Events for Catalyst Fine Art
REFRESH-INTERVAL;VALUE=DURATION:PT1H
X-Robots-Tag:noindex
X-PUBLISHED-TTL:PT1H
BEGIN:VTIMEZONE
TZID:UTC
BEGIN:STANDARD
TZOFFSETFROM:+0000
TZOFFSETTO:+0000
TZNAME:UTC
DTSTART:20240101T000000
END:STANDARD
END:VTIMEZONE
BEGIN:VEVENT
DTSTART;VALUE=DATE:20250313
DTEND;VALUE=DATE:20250317
DTSTAMP:20260425T120716
CREATED:20241221T085910Z
LAST-MODIFIED:20250110T181319Z
UID:5593-1741824000-1742169599@catalystfineart.com
SUMMARY:Oil Painting with Pam Ingalls
DESCRIPTION:Come learn to paint in the Russian Impressionist tradition with still lives and portrait models in a beautifully restored seminary 25 minutes north of Seattle. The class is set up to take each student at their own level through the basics of oil painting with still lifes and/or portraits. \nWednesday evening before the workshop begins\, come watch a free live model\, portrait painting demonstration by Pam\, where there will be lots of time for questions afterwards. The next 4 days will be an immersion into learning how to paint. Plan to get inspired and walk away with new skills. All levels of experience are very welcome! The cost is $600. \nTo register please submit the contact form below and you will receive confirmation of your registration request along with an invoice shortly. If the workshop has filled\, you be notified if your name has been added to a wait list and you will be contacted if a space becomes available. \n\n← Back Thank you for your response. ✨\n\n\n					\n						\n							\n							\n						\n						\n						\n						\n						\n							\n								\n									\n										\n										\n									\n									\n										\n										\n									\n								\n							\n						\n						\n							\n								\n									\n									\n										\n									\n									\n									\n								\n							\n						\n					\n				\n\n\n\nName(required)\n\n \n			\n				\n					\n						\n						\n						\n					\n				\n				\n			 \n	\n\n\nEmail(required)\n\n \n			\n				\n					\n						\n						\n						\n					\n				\n				\n			 \n	\n\n\nWebsite\n\n \n			\n				\n					\n						\n						\n						\n					\n				\n				\n			 \n	\n\n\nMessage\n\n \n			\n				\n					\n						\n						\n						\n					\n				\n				\n			\n	\n	\n\n				\n					\n				\n						Submit		\n		\n		\n	 \n\n\nJust a note about the workshop setting: The Lodge is a newly renovated seminary located in the middle of Saint Edward State Park\, a 316-acre forested expanse on the northeastern shores of Lake Washington. The class will be held in one of their beautiful spaces. We’ll have a 1-1/2 hour lunch break each day when you’ll be able to either keep painting\, have a leisurely lunch\, and/or enjoy the beautiful trails in the park. (There is a wonderful\, gourmet restaurant right there!)  If you’d like to stay at The Lodge\, there is a special discounted rate for workshop students. Reservations are recommended for the restaurant Cedar + Elm. \nHave more questions about the workshop? Feel free to email Pam – pam(at)pamingalls.com. \n 
URL:https://catalystfineart.com/event/oil-painting-with-pam-ingalls-2/
LOCATION:Catalyst Fine Art Gallery inside The Lodge at St. Edward Park\, 14477 Juanita Drive NE\, Kenmore\, WA\, 98028\, United States
CATEGORIES:Art Workshop,Live Demonstration
ATTACH;FMTTYPE=image/jpeg:https://catalystfineart.com/wp-content/uploads/2023/12/a96af9ec-43c4-48c7-b043-4dfd2e0d3a5a-l.jpg
ORGANIZER;CN="Catalyst Fine Art":MAILTO:Catalystfineart@gmail.com
END:VEVENT
END:VCALENDAR