BEGIN:VCALENDAR
VERSION:2.0
PRODID:-//Catalyst Fine Art - ECPv6.15.18//NONSGML v1.0//EN
CALSCALE:GREGORIAN
METHOD:PUBLISH
X-WR-CALNAME:Catalyst Fine Art
X-ORIGINAL-URL:https://catalystfineart.com
X-WR-CALDESC:Events for Catalyst Fine Art
REFRESH-INTERVAL;VALUE=DURATION:PT1H
X-Robots-Tag:noindex
X-PUBLISHED-TTL:PT1H
BEGIN:VTIMEZONE
TZID:UTC
BEGIN:STANDARD
TZOFFSETFROM:+0000
TZOFFSETTO:+0000
TZNAME:UTC
DTSTART:20230101T000000
END:STANDARD
END:VTIMEZONE
BEGIN:VEVENT
DTSTART;TZID=UTC:20241203T173000
DTEND;TZID=UTC:20241203T193000
DTSTAMP:20260425T185247
CREATED:20241124T003841Z
LAST-MODIFIED:20250110T181345Z
UID:5521-1733247000-1733254200@catalystfineart.com
SUMMARY:Holiday Carols by Northwest Chamber Chorus
DESCRIPTION:Come start your holiday season with beautiful carols performed by Northwest Chamber Chorus. Inside The Lodge you will be greeted by beautiful music while surrounded by hundreds of original artworks by PNW artists to elevate your holiday gift giving this year. Support local artists and musicians with us this season. Click here to donate: Support Northwest Chamber Chorus.
URL:https://catalystfineart.com/event/holiday-carols-by-northwest-chamber-chorus/
LOCATION:Catalyst Fine Art Gallery inside The Lodge at St. Edward Park\, 14477 Juanita Drive NE\, Kenmore\, WA\, 98028\, United States
CATEGORIES:Music
ATTACH;FMTTYPE=image/jpeg:https://catalystfineart.com/wp-content/uploads/2024/11/NW-Chamber-Chorus-jpg.webp
ORGANIZER;CN="Catalyst Fine Art":MAILTO:Catalystfineart@gmail.com
END:VEVENT
BEGIN:VEVENT
DTSTART;TZID=UTC:20241210T173000
DTEND;TZID=UTC:20241210T200000
DTSTAMP:20260425T185247
CREATED:20241117T233056Z
LAST-MODIFIED:20250110T181338Z
UID:5502-1733851800-1733860800@catalystfineart.com
SUMMARY:Catalyst Holiday Art Walk -with music by Edmonds Woodway High School
DESCRIPTION:December’s Art Walk will be a festive night out to meet local artists\, enjoy the holiday decorations and beautiful music by Edmonds Woodway high school music students. Enjoy the newest artworks from our rostered artists and celebrate with us the addition of 2 new PNW artists! \nEdmonds Woodway High School will fill the halls with beautiful holiday music. The Mello-Aires will be caroling\, and their Philharmonic Orchestra quartet will be joining us to play familiar holiday music. To support these programs\, check out: EWHS Music Boosters and make a quick donation. \nAs always\, joining us for the art and music is free and casual. Come as you are\, bring the family\, and dogs on a leash are always welcome. \nElevate your gift giving this season while supporting local artists. Your support keeps local artists creating\, improving\, and exploring new artistic skills so you and others can share even further in the experience. \nIf you want to make a night out of it\, The Tonsorium Bar will be featuring a holiday menu of craft cocktails\, or you can make reservations now for dinner in Cedar +Elm before (or after) strolling the gallery and joining in the fun. We truly appreciate your support and look forward to seeing you!
URL:https://catalystfineart.com/event/holiday-art-walk-december-10th-6-8pm/
LOCATION:Catalyst Fine Art Gallery inside The Lodge at St. Edward Park\, 14477 Juanita Drive NE\, Kenmore\, WA\, 98028\, United States
CATEGORIES:Catalyst Art Walk,Exhibition,Music,Opening reception
ATTACH;FMTTYPE=image/jpeg:https://catalystfineart.com/wp-content/uploads/2022/12/strings-2021-scaled.jpg
ORGANIZER;CN="Catalyst Fine Art":MAILTO:Catalystfineart@gmail.com
END:VEVENT
BEGIN:VEVENT
DTSTART;TZID=UTC:20241217T173000
DTEND;TZID=UTC:20241217T193000
DTSTAMP:20260425T185247
CREATED:20241124T000623Z
LAST-MODIFIED:20250110T181330Z
UID:5514-1734456600-1734463800@catalystfineart.com
SUMMARY:Holiday Carols with Newport High School Choir
DESCRIPTION:Join us for holiday carols performed by Newport Choir\, these talented local high school students will fill The Lodge with holiday music. Enjoy the sounds of the season as you stroll the gallery filled with local artworks by over 30 PNW contemporary artists. Come find your one-of-a-kind gift while supporting local talents. \nIf you can’t join us\, please consider donating to their booster club to support these talented students. Donate Here to Voices of Newport
URL:https://catalystfineart.com/event/holiday-carols-with-newport-high-school-choir/
LOCATION:Catalyst Fine Art Gallery inside The Lodge at St. Edward Park\, 14477 Juanita Drive NE\, Kenmore\, WA\, 98028\, United States
CATEGORIES:Music
ATTACH;FMTTYPE=image/jpeg:https://catalystfineart.com/wp-content/uploads/2024/11/Newport-Choir-2022-crop-jpg.webp
ORGANIZER;CN="Catalyst Fine Art":MAILTO:Catalystfineart@gmail.com
END:VEVENT
END:VCALENDAR