BEGIN:VCALENDAR
VERSION:2.0
PRODID:-//Catalyst Fine Art - ECPv6.15.18//NONSGML v1.0//EN
CALSCALE:GREGORIAN
METHOD:PUBLISH
X-ORIGINAL-URL:https://catalystfineart.com
X-WR-CALDESC:Events for Catalyst Fine Art
REFRESH-INTERVAL;VALUE=DURATION:PT1H
X-Robots-Tag:noindex
X-PUBLISHED-TTL:PT1H
BEGIN:VTIMEZONE
TZID:UTC
BEGIN:STANDARD
TZOFFSETFROM:+0000
TZOFFSETTO:+0000
TZNAME:UTC
DTSTART:20240101T000000
END:STANDARD
END:VTIMEZONE
BEGIN:VEVENT
DTSTART;TZID=UTC:20251203T173000
DTEND;TZID=UTC:20251203T193000
DTSTAMP:20260422T132532
CREATED:20251201T234815Z
LAST-MODIFIED:20251230T061234Z
UID:7131-1764783000-1764790200@catalystfineart.com
SUMMARY:Edmonds Woodway High School Camarata @The Lodge
DESCRIPTION:Join us in supporting local high school musicians! \nEdmonds Woodway High School Camarata performing in the lobby of The Lodge at St. Edward Park on Wednesday\, December 3rd\, from 5:30 – 7:30 pm. This free performance will fill the Lodge and the gallery with beautiful music. Stop by to enjoy the music with these talented musicians and support their music program with a donation to their booster club through this link.
URL:https://catalystfineart.com/event/edmonds-woodway-high-school-camarata-the-lodge/
LOCATION:Catalyst Fine Art Gallery inside The Lodge at St. Edward Park\, 14477 Juanita Drive NE\, Kenmore\, WA\, 98028\, United States
CATEGORIES:Music
ATTACH;FMTTYPE=image/jpeg:https://catalystfineart.com/wp-content/uploads/2025/12/Photo-Dec-01-2021-6-52-57-PM-scaled.webp
ORGANIZER;CN="Catalyst Fine Art":MAILTO:Catalystfineart@gmail.com
END:VEVENT
BEGIN:VEVENT
DTSTART;TZID=UTC:20251210T173000
DTEND;TZID=UTC:20251210T193000
DTSTAMP:20260422T132533
CREATED:20251203T003831Z
LAST-MODIFIED:20251203T003831Z
UID:7136-1765387800-1765395000@catalystfineart.com
SUMMARY:Inglemoor High School @ The Lodge at St. Edward Park
DESCRIPTION:Join us in supporting local high school musicians as they fill the gallery and The Lodge with beautiful music.\n\nInglemoor High School string quartets will be performing in the lobby of The Lodge on Wednesday\, December 10th\, from 5:30 – 7:30 pm.\nCome by to enjoy their music and support these talented musicians and their program with a donation to their booster club.
URL:https://catalystfineart.com/event/inglemoor-high-school-the-lodge-at-st-edward-park/
LOCATION:Catalyst Fine Art Gallery inside The Lodge at St. Edward Park\, 14477 Juanita Drive NE\, Kenmore\, WA\, 98028\, United States
CATEGORIES:Music
ATTACH;FMTTYPE=image/jpeg:https://catalystfineart.com/wp-content/uploads/2025/12/Inglemoor-High-School-quartet.webp
ORGANIZER;CN="Catalyst Fine Art":MAILTO:Catalystfineart@gmail.com
END:VEVENT
BEGIN:VEVENT
DTSTART;TZID=UTC:20251216T173000
DTEND;TZID=UTC:20251216T193000
DTSTAMP:20260422T132533
CREATED:20251203T061811Z
LAST-MODIFIED:20251230T062536Z
UID:7252-1765906200-1765913400@catalystfineart.com
SUMMARY:Northwest Chamber Chorus holiday music performance
DESCRIPTION:Northwest Chamber Chorus will be filling the gallery with beautiful holiday music on Tuesday\, December 16th. \nStop in and enjoy the free holiday music performance while you stroll the galleries filled with holiday gift ideas and local artwork. Family-friendly\, and well-behaved dogs on a leash are always welcome.
URL:https://catalystfineart.com/event/northwest-chamber-chorus-holiday-music-performance/
LOCATION:Catalyst Fine Art Gallery inside The Lodge at St. Edward Park\, 14477 Juanita Drive NE\, Kenmore\, WA\, 98028\, United States
CATEGORIES:Music
ATTACH;FMTTYPE=image/jpeg:https://catalystfineart.com/wp-content/uploads/2025/12/NWCC-Flyer-2025-Tuesday.webp
ORGANIZER;CN="Catalyst Fine Art":MAILTO:Catalystfineart@gmail.com
END:VEVENT
BEGIN:VEVENT
DTSTART;TZID=UTC:20251217T173000
DTEND;TZID=UTC:20251217T193000
DTSTAMP:20260422T132533
CREATED:20251203T044852Z
LAST-MODIFIED:20251203T044942Z
UID:7142-1765992600-1765999800@catalystfineart.com
SUMMARY:Newport Choirs caroling @ The Lodge at St. Edward Park
DESCRIPTION:Join us in supporting local high school musicians!\n\nCome enjoy beautiful music inside The Lodge at St. Edward Park Wednesday December 17th from 5:30 – 7:30 pm. Newport High School Choirs will be filling the gallery and Lodge with holiday carols.\n\nMake a dinner reservation at Cedar + Elm or grab your favorite drink from the bar and stroll the gallery while enjoying this complimentary live performance.\n\n\nShow your support for local high school performers and their program with a donation to their booster club.\n\nFREE and family-friendly holiday happenings at Catalyst and The Lodge.
URL:https://catalystfineart.com/event/newport-choirs-caroling-the-lodge-at-st-edward-park/
LOCATION:Catalyst Fine Art Gallery inside The Lodge at St. Edward Park\, 14477 Juanita Drive NE\, Kenmore\, WA\, 98028\, United States
CATEGORIES:Music
ATTACH;FMTTYPE=image/jpeg:https://catalystfineart.com/wp-content/uploads/2025/12/Nwport-hs-choirs-1.webp
ORGANIZER;CN="Catalyst Fine Art":MAILTO:Catalystfineart@gmail.com
END:VEVENT
END:VCALENDAR