BEGIN:VCALENDAR
VERSION:2.0
PRODID:-//Catalyst Fine Art - ECPv6.15.18//NONSGML v1.0//EN
CALSCALE:GREGORIAN
METHOD:PUBLISH
X-WR-CALNAME:Catalyst Fine Art
X-ORIGINAL-URL:https://catalystfineart.com
X-WR-CALDESC:Events for Catalyst Fine Art
REFRESH-INTERVAL;VALUE=DURATION:PT1H
X-Robots-Tag:noindex
X-PUBLISHED-TTL:PT1H
BEGIN:VTIMEZONE
TZID:UTC
BEGIN:STANDARD
TZOFFSETFROM:+0000
TZOFFSETTO:+0000
TZNAME:UTC
DTSTART:20240101T000000
END:STANDARD
END:VTIMEZONE
BEGIN:VEVENT
DTSTART;TZID=UTC:20251210T173000
DTEND;TZID=UTC:20251210T193000
DTSTAMP:20260422T234147
CREATED:20251203T003831Z
LAST-MODIFIED:20251203T003831Z
UID:7136-1765387800-1765395000@catalystfineart.com
SUMMARY:Inglemoor High School @ The Lodge at St. Edward Park
DESCRIPTION:Join us in supporting local high school musicians as they fill the gallery and The Lodge with beautiful music.\n\nInglemoor High School string quartets will be performing in the lobby of The Lodge on Wednesday\, December 10th\, from 5:30 – 7:30 pm.\nCome by to enjoy their music and support these talented musicians and their program with a donation to their booster club.
URL:https://catalystfineart.com/event/inglemoor-high-school-the-lodge-at-st-edward-park/
LOCATION:Catalyst Fine Art Gallery inside The Lodge at St. Edward Park\, 14477 Juanita Drive NE\, Kenmore\, WA\, 98028\, United States
CATEGORIES:Music
ATTACH;FMTTYPE=image/jpeg:https://catalystfineart.com/wp-content/uploads/2025/12/Inglemoor-High-School-quartet.webp
ORGANIZER;CN="Catalyst Fine Art":MAILTO:Catalystfineart@gmail.com
END:VEVENT
END:VCALENDAR