BEGIN:VCALENDAR
VERSION:2.0
PRODID:-//Catalyst Fine Art - ECPv6.15.18//NONSGML v1.0//EN
CALSCALE:GREGORIAN
METHOD:PUBLISH
X-WR-CALNAME:Catalyst Fine Art
X-ORIGINAL-URL:https://catalystfineart.com
X-WR-CALDESC:Events for Catalyst Fine Art
REFRESH-INTERVAL;VALUE=DURATION:PT1H
X-Robots-Tag:noindex
X-PUBLISHED-TTL:PT1H
BEGIN:VTIMEZONE
TZID:UTC
BEGIN:STANDARD
TZOFFSETFROM:+0000
TZOFFSETTO:+0000
TZNAME:UTC
DTSTART:20240101T000000
END:STANDARD
END:VTIMEZONE
BEGIN:VEVENT
DTSTART;TZID=UTC:20250223T160000
DTEND;TZID=UTC:20250223T190000
DTSTAMP:20260424T061047
CREATED:20250130T070431Z
LAST-MODIFIED:20250130T070431Z
UID:5796-1740326400-1740337200@catalystfineart.com
SUMMARY:Artwalk - Last Sunday of the month
DESCRIPTION:Come celebrate the new artwork by Catalyst artists when you join us for our monthly ArtWalk. Family friendly\, casual\, and free.
URL:https://catalystfineart.com/event/artwalk-last-sunday-of-the-month/
LOCATION:Catalyst Fine Art Gallery inside The Lodge at St. Edward Park\, 14477 Juanita Drive NE\, Kenmore\, WA\, 98028\, United States
CATEGORIES:Catalyst Art Walk
ATTACH;FMTTYPE=image/jpeg:https://catalystfineart.com/wp-content/uploads/2025/01/Art-walk-January-3-scaled.webp
ORGANIZER;CN="Catalyst Fine Art":MAILTO:Catalystfineart@gmail.com
END:VEVENT
END:VCALENDAR