BEGIN:VCALENDAR
VERSION:2.0
PRODID:-//Catalyst Fine Art - ECPv6.15.18//NONSGML v1.0//EN
CALSCALE:GREGORIAN
METHOD:PUBLISH
X-ORIGINAL-URL:https://catalystfineart.com
X-WR-CALDESC:Events for Catalyst Fine Art
REFRESH-INTERVAL;VALUE=DURATION:PT1H
X-Robots-Tag:noindex
X-PUBLISHED-TTL:PT1H
BEGIN:VTIMEZONE
TZID:UTC
BEGIN:STANDARD
TZOFFSETFROM:+0000
TZOFFSETTO:+0000
TZNAME:UTC
DTSTART:20250101T000000
END:STANDARD
END:VTIMEZONE
BEGIN:VEVENT
DTSTART;TZID=UTC:20260311T190000
DTEND;TZID=UTC:20260311T210000
DTSTAMP:20260421T211647
CREATED:20260101T080526Z
LAST-MODIFIED:20260121T053745Z
UID:7278-1773255600-1773262800@catalystfineart.com
SUMMARY:Live demonstration by Pam Ingalls
DESCRIPTION:MEET THE ARTIST \nCome join us Wednesday evening\, March 11th\, at 7pm. Pam Ingalls will be offering a free painting demonstration\, with lots of time for questions afterwards.
URL:https://catalystfineart.com/event/live-demonstration-by-pam-ingalls/
LOCATION:The Lodge at St. Edward Park\, 14477 Juanita Drive NE\, Kenmore\, WA\, 98028\, United States
CATEGORIES:Exhibition,Live Demonstration
ATTACH;FMTTYPE=image/png:https://catalystfineart.com/wp-content/uploads/2026/01/Pam-Ingalls-Live-Demo-2026-.webp
ORGANIZER;CN="Catalyst Fine Art":MAILTO:Catalystfineart@gmail.com
END:VEVENT
BEGIN:VEVENT
DTSTART;VALUE=DATE:20260312
DTEND;VALUE=DATE:20260316
DTSTAMP:20260421T211647
CREATED:20260101T080958Z
LAST-MODIFIED:20260121T053656Z
UID:7283-1773273600-1773619199@catalystfineart.com
SUMMARY:Oil Painting workshop with Pam Ingalls
DESCRIPTION:Email Kamela at Catalyst to register.
URL:https://catalystfineart.com/event/oil-painting-workshop-with-pam-ingalls/
LOCATION:Catalyst Fine Art Gallery inside The Lodge at St. Edward Park\, 14477 Juanita Drive NE\, Kenmore\, WA\, 98028\, United States
CATEGORIES:Art Workshop
ATTACH;FMTTYPE=image/png:https://catalystfineart.com/wp-content/uploads/2026/01/Pam-Ingalls-2026-Workshop.webp
ORGANIZER;CN="Catalyst Fine Art":MAILTO:Catalystfineart@gmail.com
END:VEVENT
END:VCALENDAR