BEGIN:VCALENDAR
VERSION:2.0
PRODID:-//Catalyst Fine Art - ECPv6.15.18//NONSGML v1.0//EN
CALSCALE:GREGORIAN
METHOD:PUBLISH
X-WR-CALNAME:Catalyst Fine Art
X-ORIGINAL-URL:https://catalystfineart.com
X-WR-CALDESC:Events for Catalyst Fine Art
REFRESH-INTERVAL;VALUE=DURATION:PT1H
X-Robots-Tag:noindex
X-PUBLISHED-TTL:PT1H
BEGIN:VTIMEZONE
TZID:UTC
BEGIN:STANDARD
TZOFFSETFROM:+0000
TZOFFSETTO:+0000
TZNAME:UTC
DTSTART:20240101T000000
END:STANDARD
END:VTIMEZONE
BEGIN:VEVENT
DTSTART;TZID=UTC:20250208T100000
DTEND;TZID=UTC:20250208T170000
DTSTAMP:20260424T223111
CREATED:20250111T001014Z
LAST-MODIFIED:20250111T002951Z
UID:5678-1739008800-1739034000@catalystfineart.com
SUMMARY:Valentine's Market - celebrate love\, celebrate local
DESCRIPTION:Discover a one-of-a-kind gift from our diverse selection of over 25 local artisans at the market! \nWhether you’re shopping with your “Galentines” for a special friend or browsing with the family for thoughtful presents\, you’re sure to find a unique\, locally-made item that truly expresses your love and appreciation.\n–\nSaturday and Sunday\, February 8th and 9th\n10am – 5pm each day.\n\nCelebrate local small businesses as you celebrate love this season!
URL:https://catalystfineart.com/event/valentines-market-celebrate-love-celebrate-local/
LOCATION:The Lodge at St. Edward Park\, 14477 Juanita Drive NE\, Kenmore\, WA\, 98028\, United States
CATEGORIES:Art Market
ATTACH;FMTTYPE=image/png:https://catalystfineart.com/wp-content/uploads/2025/01/Valentines-Market-announcement-png.webp
ORGANIZER;CN="Catalyst Fine Art":MAILTO:Catalystfineart@gmail.com
END:VEVENT
END:VCALENDAR