BEGIN:VCALENDAR
VERSION:2.0
PRODID:-//Catalyst Fine Art - ECPv6.15.18//NONSGML v1.0//EN
CALSCALE:GREGORIAN
METHOD:PUBLISH
X-WR-CALNAME:Catalyst Fine Art
X-ORIGINAL-URL:https://catalystfineart.com
X-WR-CALDESC:Events for Catalyst Fine Art
REFRESH-INTERVAL;VALUE=DURATION:PT1H
X-Robots-Tag:noindex
X-PUBLISHED-TTL:PT1H
BEGIN:VTIMEZONE
TZID:UTC
BEGIN:STANDARD
TZOFFSETFROM:+0000
TZOFFSETTO:+0000
TZNAME:UTC
DTSTART:20250101T000000
END:STANDARD
END:VTIMEZONE
BEGIN:VEVENT
DTSTART;TZID=UTC:20260125T170000
DTEND;TZID=UTC:20260125T190000
DTSTAMP:20260422T020458
CREATED:20260102T053016Z
LAST-MODIFIED:20260121T233938Z
UID:7293-1769360400-1769367600@catalystfineart.com
SUMMARY:Catalyst ArtWalk - Sunday\, January 25th 5-7pm
DESCRIPTION:Come stroll the gallery and see a curated collection of available new work by local artists. Visit with the artists in our monthly casual\, family friendly event. \nWhen you visit Catalyst Fine Art Gallery inside The Lodge at St Edward State Park\, you will find work from Legacy artists including George Tsutakawa\, emerging artists\, and new artists in their first gallery show\, giving an experience sharing a breadth of artworks at every price point.
URL:https://catalystfineart.com/event/catalyst-artwalk-sunday-january-25th-5-7pm/
LOCATION:Catalyst Fine Art Gallery inside The Lodge at St. Edward Park\, 14477 Juanita Drive NE\, Kenmore\, WA\, 98028\, United States
CATEGORIES:Catalyst Art Walk,Exhibition
ATTACH;FMTTYPE=image/png:https://catalystfineart.com/wp-content/uploads/2026/01/January-Art-Walk-2026.webp
ORGANIZER;CN="Catalyst Fine Art":MAILTO:Catalystfineart@gmail.com
END:VEVENT
END:VCALENDAR